BEGIN:VCALENDAR
VERSION:2.0
PRODID:-// - ECPv6.15.17.1//NONSGML v1.0//EN
CALSCALE:GREGORIAN
METHOD:PUBLISH
X-ORIGINAL-URL:https://www.sg-hoever.de
X-WR-CALDESC:Veranstaltungen für 
REFRESH-INTERVAL;VALUE=DURATION:PT1H
X-Robots-Tag:noindex
X-PUBLISHED-TTL:PT1H
BEGIN:VTIMEZONE
TZID:Europe/Berlin
BEGIN:DAYLIGHT
TZOFFSETFROM:+0100
TZOFFSETTO:+0200
TZNAME:CEST
DTSTART:20250330T010000
END:DAYLIGHT
BEGIN:STANDARD
TZOFFSETFROM:+0200
TZOFFSETTO:+0100
TZNAME:CET
DTSTART:20251026T010000
END:STANDARD
BEGIN:DAYLIGHT
TZOFFSETFROM:+0100
TZOFFSETTO:+0200
TZNAME:CEST
DTSTART:20260329T010000
END:DAYLIGHT
BEGIN:STANDARD
TZOFFSETFROM:+0200
TZOFFSETTO:+0100
TZNAME:CET
DTSTART:20261025T010000
END:STANDARD
BEGIN:DAYLIGHT
TZOFFSETFROM:+0100
TZOFFSETTO:+0200
TZNAME:CEST
DTSTART:20270328T010000
END:DAYLIGHT
BEGIN:STANDARD
TZOFFSETFROM:+0200
TZOFFSETTO:+0100
TZNAME:CET
DTSTART:20271031T010000
END:STANDARD
END:VTIMEZONE
BEGIN:VEVENT
DTSTART;TZID=Europe/Berlin:20260421T163000
DTEND;TZID=Europe/Berlin:20260421T180000
DTSTAMP:20260421T103619
CREATED:20260222T110256Z
LAST-MODIFIED:20260222T110256Z
UID:2810-1776789000-1776794400@www.sg-hoever.de
SUMMARY:Königsschießen Jugend
DESCRIPTION:
URL:https://www.sg-hoever.de/event/koenigsschiessen-jugend-4/
LOCATION:Schützenheim Höver\, Schützenstraße 10\, Höver\, Niedersachsen\, 31319\, Germany
ATTACH;FMTTYPE=image/jpeg:https://www.sg-hoever.de/wp-content/uploads/2026/02/Zielscheibe.jpg
ORGANIZER;CN="Sch%C3%BCtzengesellschaft H%C3%B6ver von 1912 e. V.":MAILTO:info@sg-hoever.de
END:VEVENT
BEGIN:VEVENT
DTSTART;TZID=Europe/Berlin:20260423T190000
DTEND;TZID=Europe/Berlin:20260423T210000
DTSTAMP:20260421T103619
CREATED:20260222T111740Z
LAST-MODIFIED:20260222T111740Z
UID:2822-1776970800-1776978000@www.sg-hoever.de
SUMMARY:KK-Pokalschießen
DESCRIPTION:
URL:https://www.sg-hoever.de/event/kk-pokalschiessen/
LOCATION:Schützenhaus Anderten\, Anderter Schützenplatz 7\, Hannover\, Niedersachsen\, 30559\, Germany
ATTACH;FMTTYPE=image/jpeg:https://www.sg-hoever.de/wp-content/uploads/2026/02/Zielscheibe.jpg
ORGANIZER;CN="Sch%C3%BCtzengesellschaft H%C3%B6ver von 1912 e. V.":MAILTO:info@sg-hoever.de
END:VEVENT
BEGIN:VEVENT
DTSTART;VALUE=DATE:20260425
DTEND;VALUE=DATE:20260426
DTSTAMP:20260421T103619
CREATED:20251221T134345Z
LAST-MODIFIED:20260323T072457Z
UID:2702-1777075200-1777161599@www.sg-hoever.de
SUMMARY:Tag der offenen Tür: 40 Jahre Schützenheim
DESCRIPTION:
URL:https://www.sg-hoever.de/event/tag-der-offenen-tuer-40-jahre-schuetzenheim/
LOCATION:Schützenheim Höver\, Schützenstraße 10\, Höver\, Niedersachsen\, 31319\, Germany
ATTACH;FMTTYPE=image/jpeg:https://www.sg-hoever.de/wp-content/uploads/2025/12/Plakat-Tag-der-offenen-Tuer_25.04.2026_1.jpg
ORGANIZER;CN="Sch%C3%BCtzengesellschaft H%C3%B6ver von 1912 e. V.":MAILTO:info@sg-hoever.de
END:VEVENT
BEGIN:VEVENT
DTSTART;TZID=Europe/Berlin:20260425T140000
DTEND;TZID=Europe/Berlin:20260425T163000
DTSTAMP:20260421T103619
CREATED:20260222T111239Z
LAST-MODIFIED:20260222T111239Z
UID:2820-1777125600-1777134600@www.sg-hoever.de
SUMMARY:Volkskönigsschießen
DESCRIPTION:
URL:https://www.sg-hoever.de/event/volkskoenigsschiessen/
LOCATION:Schützenheim Höver\, Schützenstraße 10\, Höver\, Niedersachsen\, 31319\, Germany
ATTACH;FMTTYPE=image/jpeg:https://www.sg-hoever.de/wp-content/uploads/2026/02/Zielscheibe.jpg
ORGANIZER;CN="Sch%C3%BCtzengesellschaft H%C3%B6ver von 1912 e. V.":MAILTO:info@sg-hoever.de
END:VEVENT
BEGIN:VEVENT
DTSTART;TZID=Europe/Berlin:20260427T200000
DTEND;TZID=Europe/Berlin:20260427T213000
DTSTAMP:20260421T103619
CREATED:20260222T105606Z
LAST-MODIFIED:20260222T105606Z
UID:2798-1777320000-1777325400@www.sg-hoever.de
SUMMARY:Königs-/Volkskönigsschießen
DESCRIPTION:
URL:https://www.sg-hoever.de/event/koenigs-volkskoenigsschiessen-5/
LOCATION:Schützenheim Höver\, Schützenstraße 10\, Höver\, Niedersachsen\, 31319\, Germany
ATTACH;FMTTYPE=image/jpeg:https://www.sg-hoever.de/wp-content/uploads/2026/02/Zielscheibe.jpg
ORGANIZER;CN="Sch%C3%BCtzengesellschaft H%C3%B6ver von 1912 e. V.":MAILTO:info@sg-hoever.de
END:VEVENT
BEGIN:VEVENT
DTSTART;TZID=Europe/Berlin:20260428T163000
DTEND;TZID=Europe/Berlin:20260428T180000
DTSTAMP:20260421T103619
CREATED:20260222T110331Z
LAST-MODIFIED:20260222T110331Z
UID:2812-1777393800-1777399200@www.sg-hoever.de
SUMMARY:Königsschießen Jugend
DESCRIPTION:
URL:https://www.sg-hoever.de/event/koenigsschiessen-jugend-5/
LOCATION:Schützenheim Höver\, Schützenstraße 10\, Höver\, Niedersachsen\, 31319\, Germany
ATTACH;FMTTYPE=image/jpeg:https://www.sg-hoever.de/wp-content/uploads/2026/02/Zielscheibe.jpg
ORGANIZER;CN="Sch%C3%BCtzengesellschaft H%C3%B6ver von 1912 e. V.":MAILTO:info@sg-hoever.de
END:VEVENT
BEGIN:VEVENT
DTSTART;TZID=Europe/Berlin:20260504T200000
DTEND;TZID=Europe/Berlin:20260504T213000
DTSTAMP:20260421T103619
CREATED:20260222T105700Z
LAST-MODIFIED:20260222T105700Z
UID:2800-1777924800-1777930200@www.sg-hoever.de
SUMMARY:Königs-/Volkskönigsschießen
DESCRIPTION:
URL:https://www.sg-hoever.de/event/koenigs-volkskoenigsschiessen-6/
LOCATION:Schützenheim Höver\, Schützenstraße 10\, Höver\, Niedersachsen\, 31319\, Germany
ATTACH;FMTTYPE=image/jpeg:https://www.sg-hoever.de/wp-content/uploads/2026/02/Zielscheibe.jpg
ORGANIZER;CN="Sch%C3%BCtzengesellschaft H%C3%B6ver von 1912 e. V.":MAILTO:info@sg-hoever.de
END:VEVENT
BEGIN:VEVENT
DTSTART;TZID=Europe/Berlin:20260505T163000
DTEND;TZID=Europe/Berlin:20260505T180000
DTSTAMP:20260421T103619
CREATED:20260222T110431Z
LAST-MODIFIED:20260222T110431Z
UID:2814-1777998600-1778004000@www.sg-hoever.de
SUMMARY:Königsschießen Jugend
DESCRIPTION:
URL:https://www.sg-hoever.de/event/koenigsschiessen-jugend-6/
LOCATION:Schützenheim Höver\, Schützenstraße 10\, Höver\, Niedersachsen\, 31319\, Germany
ATTACH;FMTTYPE=image/jpeg:https://www.sg-hoever.de/wp-content/uploads/2026/02/Zielscheibe.jpg
ORGANIZER;CN="Sch%C3%BCtzengesellschaft H%C3%B6ver von 1912 e. V.":MAILTO:info@sg-hoever.de
END:VEVENT
BEGIN:VEVENT
DTSTART;TZID=Europe/Berlin:20260509T100000
DTEND;TZID=Europe/Berlin:20260509T130000
DTSTAMP:20260421T103619
CREATED:20250207T113131Z
LAST-MODIFIED:20251228T150417Z
UID:2241-1778320800-1778331600@www.sg-hoever.de
SUMMARY:Arbeitseinsatz
DESCRIPTION:
URL:https://www.sg-hoever.de/event/arbeitseinsatz/
LOCATION:Schützenheim Höver\, Schützenstraße 10\, Höver\, Niedersachsen\, 31319\, Germany
CATEGORIES:Arbeitseinsatz
ATTACH;FMTTYPE=image/jpeg:https://www.sg-hoever.de/wp-content/uploads/2025/02/Symbol3.jpg
ORGANIZER;CN="Sch%C3%BCtzengesellschaft H%C3%B6ver von 1912 e. V.":MAILTO:info@sg-hoever.de
END:VEVENT
BEGIN:VEVENT
DTSTART;TZID=Europe/Berlin:20260511T200000
DTEND;TZID=Europe/Berlin:20260511T213000
DTSTAMP:20260421T103620
CREATED:20260222T105744Z
LAST-MODIFIED:20260222T105744Z
UID:2802-1778529600-1778535000@www.sg-hoever.de
SUMMARY:Königs-/Volkskönigsschießen
DESCRIPTION:
URL:https://www.sg-hoever.de/event/koenigs-volkskoenigsschiessen-7/
LOCATION:Schützenheim Höver\, Schützenstraße 10\, Höver\, Niedersachsen\, 31319\, Germany
ATTACH;FMTTYPE=image/jpeg:https://www.sg-hoever.de/wp-content/uploads/2026/02/Zielscheibe.jpg
ORGANIZER;CN="Sch%C3%BCtzengesellschaft H%C3%B6ver von 1912 e. V.":MAILTO:info@sg-hoever.de
END:VEVENT
BEGIN:VEVENT
DTSTART;TZID=Europe/Berlin:20260512T163000
DTEND;TZID=Europe/Berlin:20260512T180000
DTSTAMP:20260421T103620
CREATED:20260222T110526Z
LAST-MODIFIED:20260222T110526Z
UID:2816-1778603400-1778608800@www.sg-hoever.de
SUMMARY:Königsschießen Jugend
DESCRIPTION:
URL:https://www.sg-hoever.de/event/koenigsschiessen-jugend-7/
LOCATION:Schützenheim Höver\, Schützenstraße 10\, Höver\, Niedersachsen\, 31319\, Germany
ATTACH;FMTTYPE=image/jpeg:https://www.sg-hoever.de/wp-content/uploads/2026/02/Zielscheibe.jpg
ORGANIZER;CN="Sch%C3%BCtzengesellschaft H%C3%B6ver von 1912 e. V.":MAILTO:info@sg-hoever.de
END:VEVENT
BEGIN:VEVENT
DTSTART;TZID=Europe/Berlin:20260516T133000
DTEND;TZID=Europe/Berlin:20260516T160000
DTSTAMP:20260421T103620
CREATED:20241128T080002Z
LAST-MODIFIED:20260222T144845Z
UID:1927-1778938200-1778947200@www.sg-hoever.de
SUMMARY:Familienpokal
DESCRIPTION:
URL:https://www.sg-hoever.de/event/familienpokal/
LOCATION:Schützenheim Höver\, Schützenstraße 10\, Höver\, Niedersachsen\, 31319\, Germany
ATTACH;FMTTYPE=image/jpeg:https://www.sg-hoever.de/wp-content/uploads/2024/11/Pokal_Familie.jpg
ORGANIZER;CN="Sch%C3%BCtzengesellschaft H%C3%B6ver von 1912 e. V.":MAILTO:info@sg-hoever.de
END:VEVENT
BEGIN:VEVENT
DTSTART;TZID=Europe/Berlin:20260516T160000
DTEND;TZID=Europe/Berlin:20260516T180000
DTSTAMP:20260421T103620
CREATED:20260222T105838Z
LAST-MODIFIED:20260222T105838Z
UID:2804-1778947200-1778954400@www.sg-hoever.de
SUMMARY:Königs-/Volkskönigsschießen
DESCRIPTION:
URL:https://www.sg-hoever.de/event/koenigs-volkskoenigsschiessen-8/
LOCATION:Schützenheim Höver\, Schützenstraße 10\, Höver\, Niedersachsen\, 31319\, Germany
ATTACH;FMTTYPE=image/jpeg:https://www.sg-hoever.de/wp-content/uploads/2026/02/Zielscheibe.jpg
ORGANIZER;CN="Sch%C3%BCtzengesellschaft H%C3%B6ver von 1912 e. V.":MAILTO:info@sg-hoever.de
END:VEVENT
BEGIN:VEVENT
DTSTART;TZID=Europe/Berlin:20260516T190000
DTEND;TZID=Europe/Berlin:20260516T210000
DTSTAMP:20260421T103620
CREATED:20241128T080139Z
LAST-MODIFIED:20260222T113021Z
UID:1929-1778958000-1778965200@www.sg-hoever.de
SUMMARY:Mitgliederversammlung mit Bekanntgabe
DESCRIPTION:
URL:https://www.sg-hoever.de/event/mitgliederversammlung-mit-bekanntgabe/
LOCATION:Schützenheim Höver\, Schützenstraße 10\, Höver\, Niedersachsen\, 31319\, Germany
ATTACH;FMTTYPE=image/jpeg:https://www.sg-hoever.de/wp-content/uploads/2024/11/Menschenmenge.jpg
ORGANIZER;CN="Sch%C3%BCtzengesellschaft H%C3%B6ver von 1912 e. V.":MAILTO:info@sg-hoever.de
END:VEVENT
BEGIN:VEVENT
DTSTART;TZID=Europe/Berlin:20260528T170000
DTEND;TZID=Europe/Berlin:20260528T200000
DTSTAMP:20260421T103620
CREATED:20260222T143234Z
LAST-MODIFIED:20260222T143234Z
UID:2827-1779987600-1779998400@www.sg-hoever.de
SUMMARY:"Grünes holen"
DESCRIPTION:
URL:https://www.sg-hoever.de/event/gruenes-holen/
LOCATION:Schützenheim Höver\, Schützenstraße 10\, Höver\, Niedersachsen\, 31319\, Germany
ATTACH;FMTTYPE=image/jpeg:https://www.sg-hoever.de/wp-content/uploads/2026/02/Birkenbaeumchen.jpg
ORGANIZER;CN="Sch%C3%BCtzengesellschaft H%C3%B6ver von 1912 e. V.":MAILTO:info@sg-hoever.de
END:VEVENT
BEGIN:VEVENT
DTSTART;VALUE=DATE:20260529
DTEND;VALUE=DATE:20260601
DTSTAMP:20260421T103620
CREATED:20241128T080350Z
LAST-MODIFIED:20260419T152807Z
UID:1931-1780012800-1780271999@www.sg-hoever.de
SUMMARY:Schützenfest der SG Höver
DESCRIPTION:
URL:https://www.sg-hoever.de/event/schuetzenfest-der-sg-hoever/
LOCATION:Schützenheim Höver\, Schützenstraße 10\, Höver\, Niedersachsen\, 31319\, Germany
ATTACH;FMTTYPE=application/pdf:https://www.sg-hoever.de/wp-content/uploads/2024/11/Plakat-SF-2026.pdf
ORGANIZER;CN="Sch%C3%BCtzengesellschaft H%C3%B6ver von 1912 e. V.":MAILTO:info@sg-hoever.de
END:VEVENT
BEGIN:VEVENT
DTSTART;TZID=Europe/Berlin:20260601T170000
DTEND;TZID=Europe/Berlin:20260601T200000
DTSTAMP:20260421T103620
CREATED:20260222T143420Z
LAST-MODIFIED:20260222T143420Z
UID:2830-1780333200-1780344000@www.sg-hoever.de
SUMMARY:"Platz aufräumen"
DESCRIPTION:
URL:https://www.sg-hoever.de/event/platz-aufraeumen/
LOCATION:Schützenheim Höver\, Schützenstraße 10\, Höver\, Niedersachsen\, 31319\, Germany
ATTACH;FMTTYPE=image/jpeg:https://www.sg-hoever.de/wp-content/uploads/2025/02/Symbol3.jpg
ORGANIZER;CN="Sch%C3%BCtzengesellschaft H%C3%B6ver von 1912 e. V.":MAILTO:info@sg-hoever.de
END:VEVENT
BEGIN:VEVENT
DTSTART;VALUE=DATE:20260706
DTEND;VALUE=DATE:20260803
DTSTAMP:20260421T103620
CREATED:20241128T080645Z
LAST-MODIFIED:20251221T134840Z
UID:1933-1783296000-1785715199@www.sg-hoever.de
SUMMARY:Sommerpause
DESCRIPTION:
URL:https://www.sg-hoever.de/event/sommerpause/
LOCATION:Schützenheim Höver\, Schützenstraße 10\, Höver\, Niedersachsen\, 31319\, Germany
ATTACH;FMTTYPE=image/jpeg:https://www.sg-hoever.de/wp-content/uploads/2024/11/Sommerpause.jpg
END:VEVENT
BEGIN:VEVENT
DTSTART;TZID=Europe/Berlin:20260801T100000
DTEND;TZID=Europe/Berlin:20260801T130000
DTSTAMP:20260421T103620
CREATED:20250207T113328Z
LAST-MODIFIED:20251228T151511Z
UID:2243-1785578400-1785589200@www.sg-hoever.de
SUMMARY:Arbeitseinsatz
DESCRIPTION:
URL:https://www.sg-hoever.de/event/arbeitseinsatz-2/
LOCATION:Schützenheim Höver\, Schützenstraße 10\, Höver\, Niedersachsen\, 31319\, Germany
CATEGORIES:Arbeitseinsatz
ATTACH;FMTTYPE=image/jpeg:https://www.sg-hoever.de/wp-content/uploads/2025/02/Symbol2.jpg
ORGANIZER;CN="Sch%C3%BCtzengesellschaft H%C3%B6ver von 1912 e. V.":MAILTO:info@sg-hoever.de
END:VEVENT
BEGIN:VEVENT
DTSTART;VALUE=DATE:20260914
DTEND;VALUE=DATE:20260918
DTSTAMP:20260421T103620
CREATED:20260222T143806Z
LAST-MODIFIED:20260407T203830Z
UID:2832-1789344000-1789689599@www.sg-hoever.de
SUMMARY:Schützen der Stadt Sehnde: Königsschießen
DESCRIPTION:
URL:https://www.sg-hoever.de/event/schuetzen-der-stadt-sehnde-koenigsschiessen/
LOCATION:Schützenheim Höver\, Schützenstraße 10\, Höver\, Niedersachsen\, 31319\, Germany
ATTACH;FMTTYPE=image/jpeg:https://www.sg-hoever.de/wp-content/uploads/2026/02/Stadtkoenigsscheibe.jpg
ORGANIZER;CN="Sch%C3%BCtzengesellschaft H%C3%B6ver von 1912 e. V.":MAILTO:info@sg-hoever.de
END:VEVENT
BEGIN:VEVENT
DTSTART;VALUE=DATE:20260918
DTEND;VALUE=DATE:20260919
DTSTAMP:20260421T103620
CREATED:20260222T144359Z
LAST-MODIFIED:20260407T203944Z
UID:2835-1789689600-1789775999@www.sg-hoever.de
SUMMARY:Schützen der Stadt Sehnde: Rats- und Gästeschießen
DESCRIPTION:
URL:https://www.sg-hoever.de/event/schuetzen-der-stadt-sehnde-rats-und-gaesteschiessen/
LOCATION:Schützenheim Höver\, Schützenstraße 10\, Höver\, Niedersachsen\, 31319\, Germany
ATTACH;FMTTYPE=image/jpeg:https://www.sg-hoever.de/wp-content/uploads/2026/02/LOGO-Stadt-Sehnde.jpg
ORGANIZER;CN="Sch%C3%BCtzengesellschaft H%C3%B6ver von 1912 e. V.":MAILTO:info@sg-hoever.de
END:VEVENT
BEGIN:VEVENT
DTSTART;TZID=Europe/Berlin:20261005T200000
DTEND;TZID=Europe/Berlin:20261005T220000
DTSTAMP:20260421T103620
CREATED:20260222T152343Z
LAST-MODIFIED:20260222T152343Z
UID:2844-1791230400-1791237600@www.sg-hoever.de
SUMMARY:Vereinsmeisterschaft 2027 LP und LG-Auflage
DESCRIPTION:
URL:https://www.sg-hoever.de/event/vereinsmeisterschaft-2027-lp-und-lg-auflage/
LOCATION:Schützenheim Höver\, Schützenstraße 10\, Höver\, Niedersachsen\, 31319\, Germany
ATTACH;FMTTYPE=image/jpeg:https://www.sg-hoever.de/wp-content/uploads/2026/02/Zielscheibe.jpg
ORGANIZER;CN="Sch%C3%BCtzengesellschaft H%C3%B6ver von 1912 e. V.":MAILTO:info@sg-hoever.de
END:VEVENT
BEGIN:VEVENT
DTSTART;TZID=Europe/Berlin:20261006T163000
DTEND;TZID=Europe/Berlin:20261006T180000
DTSTAMP:20260421T103620
CREATED:20260222T153336Z
LAST-MODIFIED:20260222T153336Z
UID:2851-1791304200-1791309600@www.sg-hoever.de
SUMMARY:Vereinsmeisterschaft Jugend 2027 LG-Freihand und LG-Auflage
DESCRIPTION:
URL:https://www.sg-hoever.de/event/vereinsmeisterschaft-jugend-2027-lg-freihand-und-lg-auflage/
LOCATION:Schützenheim Höver\, Schützenstraße 10\, Höver\, Niedersachsen\, 31319\, Germany
ATTACH;FMTTYPE=image/jpeg:https://www.sg-hoever.de/wp-content/uploads/2026/02/Zielscheibe.jpg
ORGANIZER;CN="Sch%C3%BCtzengesellschaft H%C3%B6ver von 1912 e. V.":MAILTO:info@sg-hoever.de
END:VEVENT
BEGIN:VEVENT
DTSTART;TZID=Europe/Berlin:20261008T190000
DTEND;TZID=Europe/Berlin:20261008T210000
DTSTAMP:20260421T103620
CREATED:20260222T153446Z
LAST-MODIFIED:20260222T153932Z
UID:2853-1791486000-1791493200@www.sg-hoever.de
SUMMARY:KK-Herbstsch./Vereinsmeisterschaft 2027
DESCRIPTION:
URL:https://www.sg-hoever.de/event/kk-herbstsch-vereinsmeisterschaft-2027/
LOCATION:Schützenhaus Anderten\, Anderter Schützenplatz 7\, Hannover\, Niedersachsen\, 30559\, Germany
ATTACH;FMTTYPE=image/jpeg:https://www.sg-hoever.de/wp-content/uploads/2026/02/Zielscheibe.jpg
ORGANIZER;CN="Sch%C3%BCtzengesellschaft H%C3%B6ver von 1912 e. V.":MAILTO:info@sg-hoever.de
END:VEVENT
BEGIN:VEVENT
DTSTART;VALUE=DATE:20261010
DTEND;VALUE=DATE:20261011
DTSTAMP:20260421T103620
CREATED:20260222T153601Z
LAST-MODIFIED:20260222T153752Z
UID:2855-1791590400-1791676799@www.sg-hoever.de
SUMMARY:Stadtkönigsball: Schützen der Stadt Sehnde
DESCRIPTION:
URL:https://www.sg-hoever.de/event/schuetzen-der-stadt-sehnde-stadtkoenigsball/
LOCATION:Schützenheim Höver\, Schützenstraße 10\, Höver\, Niedersachsen\, 31319\, Germany
ATTACH;FMTTYPE=image/jpeg:https://www.sg-hoever.de/wp-content/uploads/2026/02/Stadtkoenigsscheibe.jpg
ORGANIZER;CN="Sch%C3%BCtzengesellschaft H%C3%B6ver von 1912 e. V.":MAILTO:info@sg-hoever.de
END:VEVENT
BEGIN:VEVENT
DTSTART;TZID=Europe/Berlin:20261012T200000
DTEND;TZID=Europe/Berlin:20261012T220000
DTSTAMP:20260421T103620
CREATED:20260222T152551Z
LAST-MODIFIED:20260223T101555Z
UID:2846-1791835200-1791842400@www.sg-hoever.de
SUMMARY:Vereinsmeisterschaft 2027 LG-Freihand Auflage
DESCRIPTION:
URL:https://www.sg-hoever.de/event/vereinsmeisterschaft-2027-lg-freihhand-auflage/
LOCATION:Schützenheim Höver\, Schützenstraße 10\, Höver\, Niedersachsen\, 31319\, Germany
ATTACH;FMTTYPE=image/jpeg:https://www.sg-hoever.de/wp-content/uploads/2026/02/Zielscheibe.jpg
ORGANIZER;CN="Sch%C3%BCtzengesellschaft H%C3%B6ver von 1912 e. V.":MAILTO:info@sg-hoever.de
END:VEVENT
BEGIN:VEVENT
DTSTART;TZID=Europe/Berlin:20261013T163000
DTEND;TZID=Europe/Berlin:20261013T180000
DTSTAMP:20260421T103620
CREATED:20260222T154222Z
LAST-MODIFIED:20260223T101714Z
UID:2858-1791909000-1791914400@www.sg-hoever.de
SUMMARY:Vereinsmeisterschaft Jugend 2027 LG-Freihand / Auflage
DESCRIPTION:
URL:https://www.sg-hoever.de/event/vereinsmeisterschaft-jugend-2027-lg-freihhand-auflage/
LOCATION:Schützenheim Höver\, Schützenstraße 10\, Höver\, Niedersachsen\, 31319\, Germany
ATTACH;FMTTYPE=image/jpeg:https://www.sg-hoever.de/wp-content/uploads/2026/02/Zielscheibe.jpg
ORGANIZER;CN="Sch%C3%BCtzengesellschaft H%C3%B6ver von 1912 e. V.":MAILTO:info@sg-hoever.de
END:VEVENT
BEGIN:VEVENT
DTSTART;TZID=Europe/Berlin:20261015T193000
DTEND;TZID=Europe/Berlin:20261015T213000
DTSTAMP:20260421T103620
CREATED:20260222T153056Z
LAST-MODIFIED:20260222T160842Z
UID:2848-1792092600-1792099800@www.sg-hoever.de
SUMMARY:Vereinsmeisterschaft 2027 Bogen
DESCRIPTION:
URL:https://www.sg-hoever.de/event/vereinsmeisterschaft-2027-bogen/
LOCATION:Schützenheim Höver\, Schützenstraße 10\, Höver\, Niedersachsen\, 31319\, Germany
ATTACH;FMTTYPE=image/jpeg:https://www.sg-hoever.de/wp-content/uploads/2026/02/Bogenscheibe-1.jpg
ORGANIZER;CN="Sch%C3%BCtzengesellschaft H%C3%B6ver von 1912 e. V.":MAILTO:info@sg-hoever.de
END:VEVENT
BEGIN:VEVENT
DTSTART;TZID=Europe/Berlin:20261019T200000
DTEND;TZID=Europe/Berlin:20261019T213000
DTSTAMP:20260421T103620
CREATED:20260222T154347Z
LAST-MODIFIED:20260222T154347Z
UID:2860-1792440000-1792445400@www.sg-hoever.de
SUMMARY:Herbstschießen LG/LP
DESCRIPTION:
URL:https://www.sg-hoever.de/event/herbstschiessen-lg-lp/
LOCATION:Schützenheim Höver\, Schützenstraße 10\, Höver\, Niedersachsen\, 31319\, Germany
ATTACH;FMTTYPE=image/jpeg:https://www.sg-hoever.de/wp-content/uploads/2026/02/Zielscheibe.jpg
ORGANIZER;CN="Sch%C3%BCtzengesellschaft H%C3%B6ver von 1912 e. V.":MAILTO:info@sg-hoever.de
END:VEVENT
BEGIN:VEVENT
DTSTART;TZID=Europe/Berlin:20261020T163000
DTEND;TZID=Europe/Berlin:20261020T180000
DTSTAMP:20260421T103620
CREATED:20260222T154621Z
LAST-MODIFIED:20260222T154621Z
UID:2864-1792513800-1792519200@www.sg-hoever.de
SUMMARY:Herbstschießen Jugend
DESCRIPTION:
URL:https://www.sg-hoever.de/event/herbstschiessen-jugend/
LOCATION:Schützenheim Höver\, Schützenstraße 10\, Höver\, Niedersachsen\, 31319\, Germany
ATTACH;FMTTYPE=image/jpeg:https://www.sg-hoever.de/wp-content/uploads/2026/02/Zielscheibe.jpg
ORGANIZER;CN="Sch%C3%BCtzengesellschaft H%C3%B6ver von 1912 e. V.":MAILTO:info@sg-hoever.de
END:VEVENT
END:VCALENDAR